BEGIN:VCALENDAR
VERSION:2.0
METHOD:PUBLISH
BEGIN:VEVENT
DTSTART:20260521T110000Z
DTEND:20260521T140000Z
LOCATION:Loughborough Rostrum 2
TRANSP: OPAQUE
SEQUENCE:0
UID:
DTSTAMP:20260420T161929Z
SUMMARY:Motorcycles Auction
DESCRIPTION:
PRIORITY:1
CLASS:PUBLIC
URL:https://www.fleetauctiongroup.com/auction/569
END:VEVENT
END:VCALENDAR