BEGIN:VCALENDAR
VERSION:2.0
METHOD:PUBLISH
BEGIN:VEVENT
DTSTART:20260603T100000Z
DTEND:20260603T130000Z
LOCATION:Loughborough Rostrum 2
TRANSP: OPAQUE
SEQUENCE:0
UID:
DTSTAMP:20260422T133237Z
SUMMARY:WAVs Auction
DESCRIPTION:
PRIORITY:1
CLASS:PUBLIC
URL:https://www.fleetauctiongroup.com/auction/589
END:VEVENT
END:VCALENDAR