BEGIN:VCALENDAR
VERSION:2.0
METHOD:PUBLISH
BEGIN:VEVENT
DTSTART:20260428T130000Z
DTEND:20260428T160000Z
LOCATION:Loughborough Rostrum 1
TRANSP: OPAQUE
SEQUENCE:0
UID:
DTSTAMP:20260425T135624Z
SUMMARY:Cars Auction
DESCRIPTION:
PRIORITY:1
CLASS:PUBLIC
URL:https://www.fleetauctiongroup.com/auction/605
END:VEVENT
END:VCALENDAR